BEGIN:VCALENDAR
VERSION:2.0
PRODID:-//Münchow Foto - ECPv6.15.20//NONSGML v1.0//EN
CALSCALE:GREGORIAN
METHOD:PUBLISH
X-WR-CALNAME:Münchow Foto
X-ORIGINAL-URL:https://munchowfoto.dk
X-WR-CALDESC:Begivenheder for Münchow Foto
REFRESH-INTERVAL;VALUE=DURATION:PT1H
X-Robots-Tag:noindex
X-PUBLISHED-TTL:PT1H
BEGIN:VTIMEZONE
TZID:Europe/Copenhagen
BEGIN:DAYLIGHT
TZOFFSETFROM:+0100
TZOFFSETTO:+0200
TZNAME:CEST
DTSTART:20250330T010000
END:DAYLIGHT
BEGIN:STANDARD
TZOFFSETFROM:+0200
TZOFFSETTO:+0100
TZNAME:CET
DTSTART:20251026T010000
END:STANDARD
BEGIN:DAYLIGHT
TZOFFSETFROM:+0100
TZOFFSETTO:+0200
TZNAME:CEST
DTSTART:20260329T010000
END:DAYLIGHT
BEGIN:STANDARD
TZOFFSETFROM:+0200
TZOFFSETTO:+0100
TZNAME:CET
DTSTART:20261025T010000
END:STANDARD
BEGIN:DAYLIGHT
TZOFFSETFROM:+0100
TZOFFSETTO:+0200
TZNAME:CEST
DTSTART:20270328T010000
END:DAYLIGHT
BEGIN:STANDARD
TZOFFSETFROM:+0200
TZOFFSETTO:+0100
TZNAME:CET
DTSTART:20271031T010000
END:STANDARD
END:VTIMEZONE
BEGIN:VEVENT
DTSTART;VALUE=DATE:20260913
DTEND;VALUE=DATE:20260914
DTSTAMP:20260421T064850
CREATED:20260420T100102Z
LAST-MODIFIED:20260420T102706Z
UID:4701-1789257600-1789343999@munchowfoto.dk
SUMMARY:Oplev den vilde natur: Bustur til Oksbøl\, Grærup Langsø og Vesterhavet
DESCRIPTION:Trænger du til storslåede naturoplevelser og frisk luft? Tag med os på en fantastisk bustur tværs over Jylland\, hvor vi skal opleve noget af Danmarks smukkeste og mest rå natur. \nVi kører mod området omkring Oksbøl og den naturskønne Grærup Langsø. Her står Naturstyrelsen klar til at tage imod os og vise os rundt i deres spændende vildtvogn. Vi kommer helt tæt på naturen og får spændende fortællinger om området undervejs. \nEfter vildtvognsturen sætter vi kursen mod Vesterhavet. Her bliver der rig mulighed for at strække benene\, mærke bruset fra bølgerne og tage fantastiske billeder af det smukke landskab. \nPraktisk information: \nDato: 13. september \nPris: 1.099 kr. pr. person \nStart og opsamling: \n-Sønderborg: Kl. 10.30 \n-Aabenraa: Kl. 11.00 (Herefter kører vi direkte mod Oksbøl) \nPladserne i vildtvognen er begrænsede\, så skynd dig at sikre din plads til dette fantastiske natureventyr!
URL:https://munchowfoto.dk/kursus/oplev-den-vilde-natur-bustur-til-oksboel-graerup-langsoe-og-vesterhavet/
LOCATION:Oksbøl\, Oksbøl\, Syddanmark\, 6840\, Denmark
CATEGORIES:Foto-Ture,Hygge,læring
END:VEVENT
END:VCALENDAR